BEGIN:VCALENDAR
VERSION:2.0
PRODID:-//WBG Werdohl - ECPv6.15.20//NONSGML v1.0//EN
CALSCALE:GREGORIAN
METHOD:PUBLISH
X-ORIGINAL-URL:https://www.wbg-werdohl.de
X-WR-CALDESC:Veranstaltungen für WBG Werdohl
REFRESH-INTERVAL;VALUE=DURATION:PT1H
X-Robots-Tag:noindex
X-PUBLISHED-TTL:PT1H
BEGIN:VTIMEZONE
TZID:Europe/Berlin
BEGIN:DAYLIGHT
TZOFFSETFROM:+0100
TZOFFSETTO:+0200
TZNAME:CEST
DTSTART:20250330T010000
END:DAYLIGHT
BEGIN:STANDARD
TZOFFSETFROM:+0200
TZOFFSETTO:+0100
TZNAME:CET
DTSTART:20251026T010000
END:STANDARD
BEGIN:DAYLIGHT
TZOFFSETFROM:+0100
TZOFFSETTO:+0200
TZNAME:CEST
DTSTART:20260329T010000
END:DAYLIGHT
BEGIN:STANDARD
TZOFFSETFROM:+0200
TZOFFSETTO:+0100
TZNAME:CET
DTSTART:20261025T010000
END:STANDARD
BEGIN:DAYLIGHT
TZOFFSETFROM:+0100
TZOFFSETTO:+0200
TZNAME:CEST
DTSTART:20270328T010000
END:DAYLIGHT
BEGIN:STANDARD
TZOFFSETFROM:+0200
TZOFFSETTO:+0100
TZNAME:CET
DTSTART:20271031T010000
END:STANDARD
END:VTIMEZONE
BEGIN:VEVENT
DTSTART;TZID=Europe/Berlin:20260509T100000
DTEND;TZID=Europe/Berlin:20260509T150000
DTSTAMP:20260424T142344
CREATED:20260408T080155Z
LAST-MODIFIED:20260408T080744Z
UID:5170-1778320800-1778338800@www.wbg-werdohl.de
SUMMARY:Müllsammelaktion 2026
DESCRIPTION:Unsere Stadt liegt uns am Herzen\, dir auch?\nDann hilf mit!\n\nUnsere Stadt ist unser Zuhause – und das soll glänzen! Am 09.05.2026 findet die WBG Müllsammelaktion statt. Wir suchen fleißige Helfer\, die keine Angst vor ein bisschen Arbeit haben und unsere Straßen und Grünflächen von Müll befreien wollen. Setz ein Zeichen für die Umwelt und unsere Gemeinschaft. Gemeinsam schaffen wir mehr! Sehen wir uns am 09. Mai?
URL:https://www.wbg-werdohl.de/?tribe_events=muellsammelaktion-2026
LOCATION:Goethe-Spielplatz\, Goethestrasse\, Werdohl\, NRW\, 58791
CATEGORIES:Aktionen
END:VEVENT
END:VCALENDAR